BEGIN:VCALENDAR
VERSION:2.0
PRODID:-//イルチブレインヨガ八事スタジオ - ECPv6.15.20//NONSGML v1.0//EN
CALSCALE:GREGORIAN
METHOD:PUBLISH
X-WR-CALNAME:イルチブレインヨガ八事スタジオ
X-ORIGINAL-URL:https://ilchibrainyoga-yagoto.com
X-WR-CALDESC:イルチブレインヨガ八事スタジオ のイベント
REFRESH-INTERVAL;VALUE=DURATION:PT1H
X-Robots-Tag:noindex
X-PUBLISHED-TTL:PT1H
BEGIN:VTIMEZONE
TZID:Asia/Tokyo
BEGIN:STANDARD
TZOFFSETFROM:+0900
TZOFFSETTO:+0900
TZNAME:JST
DTSTART:20230101T000000
END:STANDARD
END:VTIMEZONE
BEGIN:VEVENT
DTSTART;TZID=Asia/Tokyo:20240128T140000
DTEND;TZID=Asia/Tokyo:20240128T160000
DTSTAMP:20260422T060721
CREATED:20231221T024034Z
LAST-MODIFIED:20231221T024335Z
UID:3625-1706450400-1706457600@ilchibrainyoga-yagoto.com
SUMMARY:へそヒーリング体験会
DESCRIPTION:TV番組でも紹介されたへそヒーリング専用ツールを使っての\n簡単な体操からおへその周りをほぐしていきます。 \n開催日：１月28日（日）\n時間：14：00～16：00\n場所：イルチブレインヨガ八事スタジオ\n住所：名古屋市昭和区山手通3-10グランウエスト山手2階\n参加費：1000円\n問合せ電話：052-836-6567\nLINEからのお申し込みはこちら⇒https://lin.ee/urzdos2\nトレーナー：佐藤.岡田.大山\nその他：動きやすい服装 \n\n\n  \n\n\n\n\n\n \n体験ご希望日時\n		(必須)　※ご注意：月曜日は定休日です\n		\n \n—以下から選択してください—10111213141516171819時 —以下から選択してください—001020304050分 ～ のクラス\n \nお名前\n		 (必須)\n		\n \n\n \nメールアドレス\n		 (必須)\n		\n \n\n \nお電話番号（携帯可）\n		 (必須)\n		\n \n\n \nこちらのスタジオを何でお知りになりましたか？\n		 (必須)\n		\n \nチラシ看板書籍雑誌紹介Yahoo検索Google検索口コミその他Webサイト\n \nご関心があること、習得したいこと（複数可）\n \n自然治癒力アップ集中力アップダイエット体質改善ストレス緩和丹田強化呼吸法瞑想法リラックス運動不足解消姿勢がよくなりたいその他（備考欄にご記入ください）\n \n備考欄\n \n\n \n\n\n \n\n Δ
URL:https://ilchibrainyoga-yagoto.com/event/yagoto-3/
LOCATION:イルチブレインヨガ 八事スタジオ\, 愛知県名古屋市昭和区山手通3-10 グランウェスト八事 2階\, 466-0815\, 日本
ATTACH;FMTTYPE=image/jpeg:https://ilchibrainyoga-yagoto.com/wp-content/uploads/2023/05/KakaoTalk_20230519_204412199.jpg
END:VEVENT
BEGIN:VEVENT
DTSTART;TZID=Asia/Tokyo:20240121T140000
DTEND;TZID=Asia/Tokyo:20240121T160000
DTSTAMP:20260422T060721
CREATED:20231221T023907Z
LAST-MODIFIED:20231221T024349Z
UID:3623-1705845600-1705852800@ilchibrainyoga-yagoto.com
SUMMARY:へそヒーリング体験会
DESCRIPTION:TV番組でも紹介されたへそヒーリング専用ツールを使っての \n簡単な体操からおへその周りをほぐしていきます。 \n開催日：▼下記の日時からお選びください。\n１月21日（日）28日（日）\n時間：14：00～16：00\n場所：イルチブレインヨガ八事スタジオ\n住所：名古屋市昭和区山手通3-10グランウエスト山手2階\n参加費：1000円\n問合せ電話：052-836-6567\nLINEからのお申し込みはこちら⇒https://lin.ee/urzdos2\nトレーナー：佐藤.岡田.大山\nその他：動きやすい服装 \n\n\n  \n\n\n\n\n\n \n体験ご希望日時\n		(必須)　※ご注意：月曜日は定休日です\n		\n \n—以下から選択してください—10111213141516171819時 —以下から選択してください—001020304050分 ～ のクラス\n \nお名前\n		 (必須)\n		\n \n\n \nメールアドレス\n		 (必須)\n		\n \n\n \nお電話番号（携帯可）\n		 (必須)\n		\n \n\n \nこちらのスタジオを何でお知りになりましたか？\n		 (必須)\n		\n \nチラシ看板書籍雑誌紹介Yahoo検索Google検索口コミその他Webサイト\n \nご関心があること、習得したいこと（複数可）\n \n自然治癒力アップ集中力アップダイエット体質改善ストレス緩和丹田強化呼吸法瞑想法リラックス運動不足解消姿勢がよくなりたいその他（備考欄にご記入ください）\n \n備考欄\n \n\n \n\n\n \n\n Δ
URL:https://ilchibrainyoga-yagoto.com/event/yagoto-2/
LOCATION:イルチブレインヨガ 八事スタジオ\, 愛知県名古屋市昭和区山手通3-10 グランウェスト八事 2階\, 466-0815\, 日本
ATTACH;FMTTYPE=image/jpeg:https://ilchibrainyoga-yagoto.com/wp-content/uploads/2023/05/KakaoTalk_20230519_204412199.jpg
END:VEVENT
BEGIN:VEVENT
DTSTART;TZID=Asia/Tokyo:20240114T140000
DTEND;TZID=Asia/Tokyo:20240114T160000
DTSTAMP:20260422T060721
CREATED:20231221T023659Z
LAST-MODIFIED:20231221T024342Z
UID:3612-1705240800-1705248000@ilchibrainyoga-yagoto.com
SUMMARY:へそヒーリング体験会
DESCRIPTION:TV番組でも紹介されたへそヒーリング専用ツールを使っての \n簡単な体操からおへその周りをほぐしていきます。 \n開催日：▼下記の日時からお選びください。\n１月14日（日）21日（日）28日（日）\n時間：14：00～16：00\n場所：イルチブレインヨガ八事スタジオ\n住所：名古屋市昭和区山手通3-10グランウエスト山手2階\n参加費：1000円\n問合せ電話：052-836-6567\nLINEからのお申し込みはこちら⇒https://lin.ee/urzdos2\nトレーナー：佐藤.岡田.大山\nその他：動きやすい服装 \n\n\n  \n\n\n\n\n\n \n体験ご希望日時\n		(必須)　※ご注意：月曜日は定休日です\n		\n \n—以下から選択してください—10111213141516171819時 —以下から選択してください—001020304050分 ～ のクラス\n \nお名前\n		 (必須)\n		\n \n\n \nメールアドレス\n		 (必須)\n		\n \n\n \nお電話番号（携帯可）\n		 (必須)\n		\n \n\n \nこちらのスタジオを何でお知りになりましたか？\n		 (必須)\n		\n \nチラシ看板書籍雑誌紹介Yahoo検索Google検索口コミその他Webサイト\n \nご関心があること、習得したいこと（複数可）\n \n自然治癒力アップ集中力アップダイエット体質改善ストレス緩和丹田強化呼吸法瞑想法リラックス運動不足解消姿勢がよくなりたいその他（備考欄にご記入ください）\n \n備考欄\n \n\n \n\n\n \n\n Δ
URL:https://ilchibrainyoga-yagoto.com/event/yagoto/
LOCATION:イルチブレインヨガ 八事スタジオ\, 愛知県名古屋市昭和区山手通3-10 グランウェスト八事 2階\, 466-0815\, 日本
ATTACH;FMTTYPE=image/jpeg:https://ilchibrainyoga-yagoto.com/wp-content/uploads/2023/05/KakaoTalk_20230519_204412199.jpg
END:VEVENT
END:VCALENDAR